BEGIN:VCALENDAR
VERSION:2.0
PRODID:-//ERAdiate | Enhancing Research and innovAtion dimension of the University of Zilina - ECPv6.15.18//NONSGML v1.0//EN
CALSCALE:GREGORIAN
METHOD:PUBLISH
X-ORIGINAL-URL:https://www.erachair.uniza.sk
X-WR-CALDESC:Events for ERAdiate | Enhancing Research and innovAtion dimension of the University of Zilina
REFRESH-INTERVAL;VALUE=DURATION:PT1H
X-Robots-Tag:noindex
X-PUBLISHED-TTL:PT1H
BEGIN:VTIMEZONE
TZID:Europe/Paris
BEGIN:DAYLIGHT
TZOFFSETFROM:+0100
TZOFFSETTO:+0200
TZNAME:CEST
DTSTART:20150329T010000
END:DAYLIGHT
BEGIN:STANDARD
TZOFFSETFROM:+0200
TZOFFSETTO:+0100
TZNAME:CET
DTSTART:20151025T010000
END:STANDARD
BEGIN:DAYLIGHT
TZOFFSETFROM:+0100
TZOFFSETTO:+0200
TZNAME:CEST
DTSTART:20160327T010000
END:DAYLIGHT
BEGIN:STANDARD
TZOFFSETFROM:+0200
TZOFFSETTO:+0100
TZNAME:CET
DTSTART:20161030T010000
END:STANDARD
BEGIN:DAYLIGHT
TZOFFSETFROM:+0100
TZOFFSETTO:+0200
TZNAME:CEST
DTSTART:20170326T010000
END:DAYLIGHT
BEGIN:STANDARD
TZOFFSETFROM:+0200
TZOFFSETTO:+0100
TZNAME:CET
DTSTART:20171029T010000
END:STANDARD
BEGIN:DAYLIGHT
TZOFFSETFROM:+0100
TZOFFSETTO:+0200
TZNAME:CEST
DTSTART:20180325T010000
END:DAYLIGHT
BEGIN:STANDARD
TZOFFSETFROM:+0200
TZOFFSETTO:+0100
TZNAME:CET
DTSTART:20181028T010000
END:STANDARD
BEGIN:DAYLIGHT
TZOFFSETFROM:+0100
TZOFFSETTO:+0200
TZNAME:CEST
DTSTART:20190331T010000
END:DAYLIGHT
BEGIN:STANDARD
TZOFFSETFROM:+0200
TZOFFSETTO:+0100
TZNAME:CET
DTSTART:20191027T010000
END:STANDARD
BEGIN:DAYLIGHT
TZOFFSETFROM:+0100
TZOFFSETTO:+0200
TZNAME:CEST
DTSTART:20200329T010000
END:DAYLIGHT
BEGIN:STANDARD
TZOFFSETFROM:+0200
TZOFFSETTO:+0100
TZNAME:CET
DTSTART:20201025T010000
END:STANDARD
BEGIN:DAYLIGHT
TZOFFSETFROM:+0100
TZOFFSETTO:+0200
TZNAME:CEST
DTSTART:20210328T010000
END:DAYLIGHT
BEGIN:STANDARD
TZOFFSETFROM:+0200
TZOFFSETTO:+0100
TZNAME:CET
DTSTART:20211031T010000
END:STANDARD
END:VTIMEZONE
BEGIN:VEVENT
DTSTART;TZID=Europe/Paris:20200618T093000
DTEND;TZID=Europe/Paris:20200618T130000
DTSTAMP:20260422T191406
CREATED:20200609T104341Z
LAST-MODIFIED:20200624T085200Z
UID:7890-1592472600-1592485200@www.erachair.uniza.sk
SUMMARY:MoTiV Final Conference
DESCRIPTION:Join us online on June 18th\, 2020 for the Final MoTiV Conference! \nOver the course of 33 months\, the MoTiV project contributed to advance research on the Value of Travel Time (VTT) by introducing and validating a conceptual framework for the estimation of VTT through a European-wide data collection campaign. The data was gathered through the Woorti smartphone app. \nThe final MoTiV conference will showcase the results of the project\, and the largest data collection campaign on VTT in Europe. An excellent line up of speakers will not only discuss the outputs but the project’s legacy to future work\, its relevance to better public policy/business outcomes and contextualise the results of the project within academic surroundings. \nHave a look at the agenda here. \nREGISTRATION
URL:https://www.erachair.uniza.sk/event/motiv-final-conference/
CATEGORIES:Conferences
ATTACH;FMTTYPE=image/png:https://www.erachair.uniza.sk/wp-content/uploads/2020/06/csm_eventteaser_097d76cebb.png
END:VEVENT
BEGIN:VEVENT
DTSTART;VALUE=DATE:20190528
DTEND;VALUE=DATE:20190529
DTSTAMP:20260422T191406
CREATED:20190423T054816Z
LAST-MODIFIED:20191009T054053Z
UID:7076-1559001600-1559087999@www.erachair.uniza.sk
SUMMARY:ERAdiate active in ITAPA 2019
DESCRIPTION:ERAdiate again actively contributes to an important and well-known event in Slovakia. On 28 May\, you can see our ERA Chair Holder\, Tatiana Kovacikova\, at Spring ITAPA 2019 in Bratislava (Itapa\, Jarná ITAPA 2019)\, where she will deliver a presentation „Intelligent Transport Systems: Current and future Research and Innovation trends“\, focusing on technological\, societal and ethical aspects of Connected and Autonomous Vehicles. \nMore info \nProgram
URL:https://www.erachair.uniza.sk/event/eradiate-active-in-itapa-2019/
LOCATION:Bratislava\, Raddison Blue Carlton
CATEGORIES:Conferences
ATTACH;FMTTYPE=image/png:https://www.erachair.uniza.sk/wp-content/uploads/2019/04/ITAPA.png
END:VEVENT
BEGIN:VEVENT
DTSTART;VALUE=DATE:20190427
DTEND;VALUE=DATE:20190428
DTSTAMP:20260422T191406
CREATED:20190423T053957Z
LAST-MODIFIED:20190423T124435Z
UID:7070-1556323200-1556409599@www.erachair.uniza.sk
SUMMARY:ERAdiate actively contributes to IXPO 2019
DESCRIPTION:“Will my dad fly to work on Mars?” “Will a robot substitute my mum in the kitchen?” “Will virtual reality make it easier for kids to learn?” These questions are among the themes of the IXPO\, the biggest technology event in Slovakia\, this year being held on 26-28 April. ERAdiate will also actively contribute to the event through the presentation on Intelligent Transport Systems by the ERA Chair Holder\, Tatiana Kovacikova\, on Saturday\, 27 April\, Orange stage\, 11:10-11:30. \nMore info \nProgram
URL:https://www.erachair.uniza.sk/event/eradiate-actively-contributes-to-ixpo-2019/
LOCATION:Bratislava\, Tyršovo nábrežie
CATEGORIES:Conferences
ATTACH;FMTTYPE=image/png:https://www.erachair.uniza.sk/wp-content/uploads/2019/04/2.png
END:VEVENT
BEGIN:VEVENT
DTSTART;VALUE=DATE:20171129
DTEND;VALUE=DATE:20171202
DTSTAMP:20260422T191406
CREATED:20171218T083502Z
LAST-MODIFIED:20180628T074338Z
UID:2098-1511913600-1512172799@www.erachair.uniza.sk
SUMMARY:INTSYS 2017 - Intelligent Transport Systems - From research and development to the market uptake
DESCRIPTION:co-located with SmartCity 360 summit\nAbout INTSYS\nThis international event was organised by ERAdiate and endorsed by the European Alliance for Innovation\, a leading community-based organisation devoted to the advancement of innovation in the field of ICT. \nINTSYS conference aimed to bring together research\, industry and startups to talk about emerging technology\, trends & breakthrough scientic knowledge in the field of ITS and to collaborate and inspire each other. \nThe objective of the conference was twofold:\n1.       to enable researchers in ITS to share their achievements and findings in different areas of Intelligent Transport Systems\n2.       to bring together the relevant ITS stakeholders and to address the following questions: \n\nWhat role has research and end users in developing ITS solutions?\nHow to maximise the use of research outcomes by industry?\nShould ITS be a priority for regional smart specialisation strategy?\n\nAll accepted papers are published by Springer and made available through SpringerLink Digital Library\, one of the world’s largest scientific libraries. \nProceedings are submitted for inclusion to the leading indexing services: DBLP\, Google Scholar\, Thomson Scientific ISI Proceedings\, EI Elsevier Engineering Index\, CrossRef\, Scopus\, as well as EAI’s own EU Digital Library (EUDL). \nAccepted authors are invited to submit extended versions of their papers to Special Issue in EAI Endorsed Transactions on Industrial Networks and Intelligent Systems. \nConference web-site\n\nProgramme and topicsSpeakersVenue\nTopics of interest to the Conference include\, but are not limited to:\n\nTravel and traffic information\nTraffic management and intelligent infrastructure (road\, freight\, public transport)\nCooperative ITS and Autonomous driving\nSafe and secure ITS\nBig data in ITS\nCloud computing\, Fog computing\nLocalisation\nTraffic modelling and simulation\nSensors\, Detectors and Actuators\nITS user services\nApproaches to sustainable transportation\nITS for Smart Cities\n\n\n\n\n    \n \n    \n        \n        INTSYS - Full programme\n            \n            Download\n        \n    \n \n \n    \n    13 downloads505.73 KB\n\n\n\n\n\n\n    \n \n    \n        \n        INTSYS keynote speakers\n            \n            Download\n        \n    \n \n \n    \n    8 downloads394.16 KB\n\n\n\nINTSYS conference will take place at \nSpahotel Sveitsi in Hyvinkää \nHärkävehmaankatu 4\n05900 Hyvinkää\nFinland \nSee the hotel premises here.
URL:https://www.erachair.uniza.sk/event/test-event/
LOCATION:Hyvinkaa\, Fínsko
CATEGORIES:Conferences,Workshops
ATTACH;FMTTYPE=image/jpeg:https://www.erachair.uniza.sk/wp-content/uploads/2017/12/intsys2017.jpg
END:VEVENT
BEGIN:VEVENT
DTSTART;VALUE=DATE:20161122
DTEND;VALUE=DATE:20161124
DTSTAMP:20260422T191406
CREATED:20180627T131740Z
LAST-MODIFIED:20180628T074238Z
UID:2692-1479772800-1479945599@www.erachair.uniza.sk
SUMMARY:Intelligent Transport Systems: a Tool or a Toy?
DESCRIPTION:International Conference \nIntelligent Transport Systems: a Tool or a Toy? \nResearch and innovation opportunities and challenges for autonomous driving and new transport models \n22. – 23. 11. 2016 \nŽilina\, hotel Holiday Inn \nThis conference was co-organised between \nCOST Association \nand \nUniversity of Zilina \nthe latter as European Research Area (ERA) Chair (ERAdiate project) on International Transport Systems (ITS)\, and is held under the auspices of the Slovak Presidency of the Council of the European Union. \n  \n\n\nThe aim of this event was to bring special attention to the role of research organisations in providing evidence to the policy makers for shaping the right ecosystem in ITS\, and to the role of the industry\, and in particular small and medium enterprises (SMEs)\, in delivering innovative\, sustainable and interoperable solutions. Particular attention was given to two important pillars of future mobility: Autonomous driving and Mobility as a Service (MaaS). \nThis three-day conference took place in the context of a new legal framework (Directive 2010/40/EU) that was adopted by the European Union on 07 July 2010\, to accelerate the deployment of the ITS across Europe. \nAccording to the European Commission’s White Paper on Transport\, new forms of mobility have to be proposed for overcoming reliability\, environmental safety and affordability issues towards sustainable solutions for the transport of people and goods. Until now\, advancements in research and technology have significantly contributed to this recommendation by integrating multidisciplinary approaches\, and having addressed the fragmentation of knowledge in ITS. \nHowever\, the deployment of widely used interoperable and seamless ITS solutions is still lagging behind the expectations\, both in terms of their sustainability and competitiveness\, as well as integrating their socioeconomic impact at regional\, national and pan-European level. \nThe ERAdiate project is supported by the European Commission under FP7 Grant Agreement 621386. \n\nProgrammePresentationsPhotosDocuments\n\n\n\n    \n        \n            \n        \n        \n            \n                ITS Zilina - Programme\n                \n                     467.44 KB\n                     14 downloads\n                \n            \n            ...\n        \n        \n            Download\n        \n    \n\n\n\n\n\n\n\n\n\n    \n \n    \n        \n        ITS Zilina - Presentation 1\n            \n            Download\n        \n    \n \n \n    \n    11 downloads35.86 MB\n\n\n\n\n    \n \n    \n        \n        ITS Zilina - Presentation 2\n            \n            Download\n        \n    \n \n \n    \n    12 downloads45.05 MB\n\n\n\n\n    \n \n    \n        \n        ITS Zilina - Presentation 3\n            \n            Download\n        \n    \n \n \n    \n    10 downloads33.68 MB\n\n\n\nPhotos \n\n\n\n\n\n    \n \n    \n        \n        ITS Zilina - Final report\n            \n            Download\n        \n    \n \n \n    \n    12 downloads571.68 KB\n\n\n\n\n    \n \n    \n        \n        COST - H2020 Info Day\n            \n            Download\n        \n    \n \n \n    \n    9 downloads182.73 KB\n\n\n  \n\nOrganisers\n \n\nPartner organisations\n \n\nSupporting organisations\n \n  \n\nMedia partners
URL:https://www.erachair.uniza.sk/event/intelligent-transport-systems-a-tool-or-a-toy/
LOCATION:Holiday Inn Zilina\, Športová 568/2\, Žilina\, 01010\, Slovakia (Slovak Republic)
CATEGORIES:Conferences
END:VEVENT
END:VCALENDAR